BEGIN:VCALENDAR
VERSION:2.0
PRODID:-//International US-Cuba Normalization Coalition Committee - ECPv6.15.20//NONSGML v1.0//EN
CALSCALE:GREGORIAN
METHOD:PUBLISH
X-WR-CALNAME:International US-Cuba Normalization Coalition Committee
X-ORIGINAL-URL:https://www.us-cubanormalization.org
X-WR-CALDESC:Events for International US-Cuba Normalization Coalition Committee
REFRESH-INTERVAL;VALUE=DURATION:PT1H
X-Robots-Tag:noindex
X-PUBLISHED-TTL:PT1H
BEGIN:VTIMEZONE
TZID:America/New_York
BEGIN:DAYLIGHT
TZOFFSETFROM:-0500
TZOFFSETTO:-0400
TZNAME:EDT
DTSTART:20240310T070000
END:DAYLIGHT
BEGIN:STANDARD
TZOFFSETFROM:-0400
TZOFFSETTO:-0500
TZNAME:EST
DTSTART:20241103T060000
END:STANDARD
BEGIN:DAYLIGHT
TZOFFSETFROM:-0500
TZOFFSETTO:-0400
TZNAME:EDT
DTSTART:20250309T070000
END:DAYLIGHT
BEGIN:STANDARD
TZOFFSETFROM:-0400
TZOFFSETTO:-0500
TZNAME:EST
DTSTART:20251102T060000
END:STANDARD
BEGIN:DAYLIGHT
TZOFFSETFROM:-0500
TZOFFSETTO:-0400
TZNAME:EDT
DTSTART:20260308T070000
END:DAYLIGHT
BEGIN:STANDARD
TZOFFSETFROM:-0400
TZOFFSETTO:-0500
TZNAME:EST
DTSTART:20261101T060000
END:STANDARD
BEGIN:DAYLIGHT
TZOFFSETFROM:-0500
TZOFFSETTO:-0400
TZNAME:EDT
DTSTART:20270314T070000
END:DAYLIGHT
BEGIN:STANDARD
TZOFFSETFROM:-0400
TZOFFSETTO:-0500
TZNAME:EST
DTSTART:20271107T060000
END:STANDARD
END:VTIMEZONE
BEGIN:VTIMEZONE
TZID:America/Los_Angeles
BEGIN:DAYLIGHT
TZOFFSETFROM:-0800
TZOFFSETTO:-0700
TZNAME:PDT
DTSTART:20240310T100000
END:DAYLIGHT
BEGIN:STANDARD
TZOFFSETFROM:-0700
TZOFFSETTO:-0800
TZNAME:PST
DTSTART:20241103T090000
END:STANDARD
BEGIN:DAYLIGHT
TZOFFSETFROM:-0800
TZOFFSETTO:-0700
TZNAME:PDT
DTSTART:20250309T100000
END:DAYLIGHT
BEGIN:STANDARD
TZOFFSETFROM:-0700
TZOFFSETTO:-0800
TZNAME:PST
DTSTART:20251102T090000
END:STANDARD
BEGIN:DAYLIGHT
TZOFFSETFROM:-0800
TZOFFSETTO:-0700
TZNAME:PDT
DTSTART:20260308T100000
END:DAYLIGHT
BEGIN:STANDARD
TZOFFSETFROM:-0700
TZOFFSETTO:-0800
TZNAME:PST
DTSTART:20261101T090000
END:STANDARD
END:VTIMEZONE
BEGIN:VTIMEZONE
TZID:America/Chicago
BEGIN:DAYLIGHT
TZOFFSETFROM:-0600
TZOFFSETTO:-0500
TZNAME:CDT
DTSTART:20240310T080000
END:DAYLIGHT
BEGIN:STANDARD
TZOFFSETFROM:-0500
TZOFFSETTO:-0600
TZNAME:CST
DTSTART:20241103T070000
END:STANDARD
BEGIN:DAYLIGHT
TZOFFSETFROM:-0600
TZOFFSETTO:-0500
TZNAME:CDT
DTSTART:20250309T080000
END:DAYLIGHT
BEGIN:STANDARD
TZOFFSETFROM:-0500
TZOFFSETTO:-0600
TZNAME:CST
DTSTART:20251102T070000
END:STANDARD
BEGIN:DAYLIGHT
TZOFFSETFROM:-0600
TZOFFSETTO:-0500
TZNAME:CDT
DTSTART:20260308T080000
END:DAYLIGHT
BEGIN:STANDARD
TZOFFSETFROM:-0500
TZOFFSETTO:-0600
TZNAME:CST
DTSTART:20261101T070000
END:STANDARD
END:VTIMEZONE
BEGIN:VTIMEZONE
TZID:America/Vancouver
BEGIN:DAYLIGHT
TZOFFSETFROM:-0800
TZOFFSETTO:-0700
TZNAME:PDT
DTSTART:20240310T100000
END:DAYLIGHT
BEGIN:STANDARD
TZOFFSETFROM:-0700
TZOFFSETTO:-0800
TZNAME:PST
DTSTART:20241103T090000
END:STANDARD
BEGIN:DAYLIGHT
TZOFFSETFROM:-0800
TZOFFSETTO:-0700
TZNAME:PDT
DTSTART:20250309T100000
END:DAYLIGHT
BEGIN:STANDARD
TZOFFSETFROM:-0700
TZOFFSETTO:-0800
TZNAME:PST
DTSTART:20251102T090000
END:STANDARD
BEGIN:DAYLIGHT
TZOFFSETFROM:-0800
TZOFFSETTO:-0700
TZNAME:PDT
DTSTART:20260308T100000
END:DAYLIGHT
BEGIN:STANDARD
TZOFFSETFROM:-0700
TZOFFSETTO:-0800
TZNAME:PST
DTSTART:20261101T090000
END:STANDARD
END:VTIMEZONE
BEGIN:VEVENT
DTSTART;TZID=America/New_York:20251021T190000
DTEND;TZID=America/New_York:20251021T210000
DTSTAMP:20260422T185059
CREATED:20251019T223621Z
LAST-MODIFIED:20251019T223632Z
UID:9125-1761073200-1761080400@www.us-cubanormalization.org
SUMMARY:Eyewitness Reports - from the Delegates Returning from Cuba (Miami\, Florida)
DESCRIPTION:As the US government is ratcheting up slanders against Cuba’s medical internationalism—while tightening sanctions—and escalating its military threats in the Caribbean\, the Miami Coalition to End the Blockade in Cuba is holding a panel to hear anti-blockade activists returning from Cuba!\n\n\n\nCome hear their reports on:\n\n\n– GRANMA / JUVENTUD REBELDE FESTIVAL;\n\n\n– INTERNATIONAL CONFERENCE OF PROGRESSIVE AND LEFTIST PARTIES;\n\n\n– THE LAUNCH OF A CAMPAIGN DEMANDING THAT THE U.S. GOVERNMNT STOP DENYING VISAS FOR CUBAN ATHLETES SEEKING TO PARTICIPATE IN TRYOUTS FOR THE 2028 OLYMPIC GAMES;\n\n\n– HOW CUBA IS ORGANIZING TO OVERCOME THE EFFECTS OF THE BLOCKADE\n\n\nSPEAKERS WILL INCLUDE:\n\n\nMegan Romer\, National Political Committee – Democratic Socialists of America\n\n\nMark Friedman and Brenda Lopez\, Los Angeles US Hands Off Cuba Coalition\n\n\nHakim Jihad\, Jacksonville US Hands Off Cuba Coalition\n\n\nJoin us!
URL:https://www.us-cubanormalization.org/event/eyewitness-reports-from-the-delegates-returning-from-cuba-miami-florida/
LOCATION:FIU-MMC (South Campus)\, Charles Perry (PC) Room 310 - 11001 SW 14th St\, Miami\, FL\, 33199\, United States
CATEGORIES:International Action Against the Blockade on Cuba
ATTACH;FMTTYPE=image/jpeg:https://www.us-cubanormalization.org/wp-content/uploads/2025/10/565515703_18406286914185986_390356591188361377_n.jpg
ORGANIZER;CN="Miami Coalition to End the US Blockade of Cuba":MAILTO:endblockade305@gmail.com
END:VEVENT
BEGIN:VEVENT
DTSTART;TZID=America/Los_Angeles:20251025T110000
DTEND;TZID=America/Los_Angeles:20251025T130000
DTSTAMP:20260422T185059
CREATED:20251024T165048Z
LAST-MODIFIED:20251024T165050Z
UID:9140-1761390000-1761397200@www.us-cubanormalization.org
SUMMARY:3rd Annual Human Billboard in Solidarity with Cuba - Oakland\, California
DESCRIPTION:SUPPORT THE UNITED NATIONS VOTE AGAINST THE BLOCKADE!\nLET CUBA LIVE! \nSince the Trump/Rubio diabolical duo have taken office they have ramped up the deadly economic war against Cuba. The Cuban government’s annual report on the impact of the blockade accuses the U.S. government of “surgically and systematically” targeting the main sources of revenue for the Cuban economy. Some of the major escalations include: \n– Putting Cuba back on the “State Sponsors of Terrorism” list\n– Sanctions on shipping companies supplying fuel to Cuba\n– Sanctions that block financial transactions and remittances\n– Targeting Cuba’s international medical cooperation brigades\n– Trying to stop tourists from visiting the island \nTHIS OCTOBER 29\, THE UN GENERAL ASSEMBLY WILL VOTE FOR THE 3RD YEAR IN A ROW TO END THE BLOCKADE AGAINST CUBA.\nLast year only Israel and the U.S. voted to continue this criminal strangulation of the Cuban economy
URL:https://www.us-cubanormalization.org/event/3rd-annual-human-billboard-in-solidarity-with-cuba-oakland-california/
LOCATION:Grand Lake Theater\, Oakland\, CA\, United States
CATEGORIES:International Action Against the Blockade on Cuba
ATTACH;FMTTYPE=image/png:https://www.us-cubanormalization.org/wp-content/uploads/2025/10/Flyer-Bay-Area-UN-vote-related-event-on-25-Oct-2025.png
ORGANIZER;CN="Bay Area Cuba Solidarity Network":MAILTO:bayareacubasolidarity@gmail.com
END:VEVENT
BEGIN:VEVENT
DTSTART;TZID=America/Chicago:20251025T120000
DTEND;TZID=America/Chicago:20251025T130000
DTSTAMP:20260422T185059
CREATED:20251027T040257Z
LAST-MODIFIED:20251027T040258Z
UID:9151-1761393600-1761397200@www.us-cubanormalization.org
SUMMARY:Support the UN & Its Resolution to End the US Blockade on Cuba! - Milwaukee\, Wisconsin
DESCRIPTION:Stand for Peace in MKE:\nSupport the UN & Its Resolution to End the US Blockade on Cuba!\nGather at Brady & Farwell Streets\, Milwaukee 53202\nSaturday\, October 25 at 12 Noon to 1:00 p.m. \nWe will be recording messages from Milwaukee to send to the Global Online Picket.
URL:https://www.us-cubanormalization.org/event/support-the-un-its-resolution-to-end-the-us-blockade-on-cuba-milwaukee-wisconsin/
LOCATION:Brady & Farwell Streets\, Milwaukee\, WI\, United States
CATEGORIES:International Action Against the Blockade on Cuba
ATTACH;FMTTYPE=image/jpeg:https://www.us-cubanormalization.org/wp-content/uploads/2025/10/Wisconsin.jpg
ORGANIZER;CN="Wisconsin Coalition to Normalize Relations with Cuba":MAILTO:wicubacoalition@gmail.com
END:VEVENT
BEGIN:VEVENT
DTSTART;TZID=America/New_York:20251025T150000
DTEND;TZID=America/New_York:20251025T170000
DTSTAMP:20260422T185059
CREATED:20251027T041008Z
LAST-MODIFIED:20251027T041009Z
UID:9157-1761404400-1761411600@www.us-cubanormalization.org
SUMMARY:CUBA IS NOT ALONE Action - Baltimore\, Maryland
DESCRIPTION:The UN General Assembly will once again urge the United States to end its economic\, commercial\, and financial embargo on Cuba. This demand has been made annually since 1992. The debate and vote will be from Tuesday\, Oct 28\, to Wednesday\, Oct 29\, 2025. The BLOCKADE was first imposed in 1960 after former leader Fidel Castro came to power following the triumph of the revolution in 1959. \nThis event in Baltimore is part of a nationwide effort to bring attention to this criminal US policy against our neighbors in Cuba. \nLet Cuba live!
URL:https://www.us-cubanormalization.org/event/cuba-is-not-alone-action-baltimore-maryland/
LOCATION:327 Park Ave\, Baltimore\, MD\, United States
CATEGORIES:International Action Against the Blockade on Cuba
ATTACH;FMTTYPE=image/jpeg:https://www.us-cubanormalization.org/wp-content/uploads/2025/10/Maryland-Cuba.jpg
END:VEVENT
BEGIN:VEVENT
DTSTART;TZID=America/Los_Angeles:20251025T160000
DTEND;TZID=America/Los_Angeles:20251025T210000
DTSTAMP:20260422T185059
CREATED:20251019T221811Z
LAST-MODIFIED:20251019T222408Z
UID:9114-1761408000-1761426000@www.us-cubanormalization.org
SUMMARY:LA protest & discussion event  - October 25\, part of world-wide actions before UN vote
DESCRIPTION:Solidarity with Cuba intensifies worldwide. Actions in Los Angeles\n\n\n\n\n\n4 pm Picket at Westside Federal Building\n5 pm Car Caravan to Strategy and Soul Movement Center\n6 PM dinner\, 7 PM program\n*Special live video from students at the Latin American School of Medicine (ELAM) in Havana\n*Eyewitness reports from US delegations to Havana October conferences: Latin American Studies\,\nGranma/Juventud Rebelde festival.\n*A featured exhibition of historical Cuban posters from the Center for the Study of Political Graphics\nRSVP to https://bit.ly/Strategyandsoul (213) 387-2800 LA.US.handsoffcuba@gmail.com
URL:https://www.us-cubanormalization.org/event/la-protest-discussion-event-october-25-part-of-world-wide-actions-before-un-vote/
LOCATION:Strategy and Soul Movement Center\, 3546 Martin Luther King Blvd\, Los Angeles\, CA\, 90008\, United States
CATEGORIES:International Action Against the Blockade on Cuba
ATTACH;FMTTYPE=image/png:https://www.us-cubanormalization.org/wp-content/uploads/2025/10/LAHOC-Strategy-and-Soul-Center-flyer.png
ORGANIZER;CN="L.A. Hands Off Cuba Committee":MAILTO:la.us.handsoffcuba@gmail.com
END:VEVENT
BEGIN:VEVENT
DTSTART;TZID=America/Vancouver:20251026T123000
DTEND;TZID=America/Vancouver:20251026T153000
DTSTAMP:20260422T185059
CREATED:20251019T220134Z
LAST-MODIFIED:20251019T220135Z
UID:9108-1761481800-1761492600@www.us-cubanormalization.org
SUMMARY:Car Caravan To Lift The U.S. Blockade on Cuba - Vancouver\, Canada
DESCRIPTION:International Week Of Actions!\nVancouver Monthly Car Caravan \nOrganized by: Friends Of Cuba Against the U.S. Blockade – Vancouver \nIn Solidarity with: Maratón Mundial de Amor por Cuba & Puentes de Amor \nSponsored by: Vancouver Communities in Solidarity with Cuba – VCSC
URL:https://www.us-cubanormalization.org/event/car-caravan-to-lift-the-u-s-blockade-on-cuba-vancouver-canada/
LOCATION:Call for location – 604-780-4029\, Vancouver\, BC\, Canada
CATEGORIES:International Action Against the Blockade on Cuba
ATTACH;FMTTYPE=image/jpeg:https://www.us-cubanormalization.org/wp-content/uploads/2025/10/251026-Cuba-Car-Caravan-scaled.jpg
END:VEVENT
BEGIN:VEVENT
DTSTART;TZID=America/New_York:20251026T130000
DTEND;TZID=America/New_York:20251026T160000
DTSTAMP:20260422T185059
CREATED:20251019T222330Z
LAST-MODIFIED:20251027T035743Z
UID:9118-1761483600-1761494400@www.us-cubanormalization.org
SUMMARY:NYC - United Rally to End 65 Years of U.S. Economic & Political War Against Cuba!
DESCRIPTION:Stand with the Rest of the World in Condemning The Illegal U.S. Blockade on Cuba when United Nations delegates at the General Assembly vote in their great majority against the blockade\, as they have for the past 34 years!
URL:https://www.us-cubanormalization.org/event/nyc-united-rally-to-end-65-years-of-u-s-economic-political-war-against-cuba/
LOCATION:Adam Clayton Powell Jr State Office Building\, 163 W 125th St.\, New York\, NY\, United States
CATEGORIES:International Action Against the Blockade on Cuba
ATTACH;FMTTYPE=image/jpeg:https://www.us-cubanormalization.org/wp-content/uploads/2025/10/NYC-Rally-Oct-26.jpg
END:VEVENT
BEGIN:VEVENT
DTSTART;TZID=America/New_York:20251028T200000
DTEND;TZID=America/New_York:20251029T200000
DTSTAMP:20260422T185059
CREATED:20251019T220803Z
LAST-MODIFIED:20251019T220804Z
UID:9112-1761681600-1761768000@www.us-cubanormalization.org
SUMMARY:24-HOUR GLOBAL ONLINE PICKET TO END THE U.S. BLOCKADE ON CUBA!
DESCRIPTION:In October 2025 Cuba will bring a resolution to the United Nations to end the cruel U.S. blockade on Cuba for the 33rd consecutive vote! \nWhile the government of the U.S. votes “no” to ending the inhuman and illegal blockade\, the people of the United States & the world vote “YES”! International actions will take place around the world October 24-29 marking the annual United Nations General Assembly vote. Join us for the 24-hour global online picket with a program of speakers\, documentaries\, music\, and more as we stand by Cuba and its just demand for an end to this illegal U.S. policy. \nIt’s time:\n+ To end the U.S. blockade on Cuba!!\n+ Remove Cuba from the so-called “State Sponsors of Terrorism” list!\n+ Return Guantanamo Bay Naval Base to Cuba! \nOCTOBER 28-29\, 2025\nSTARTING OCTOBER 28\n@ 8:00 pm (ET – Havana time) \nWrap-up Event & Special Celebration\nSTARTING OCTOBER 29\n@ 7:00 pm (ET – Havana time) \nREGISTER NOW:\nhttps://tinyurl.com/24hr4Cuba \nWE NEED YOUR PARTICIPATION – IN ANY LANGUAGE!\nSend video messages for the 24-hour Global Online Picket action:\nWhatsapp / Telegram: +1-778-882-5223\nEmail: info@us-cubanormalization.org \nEnd The Blockade Against Cuba!
URL:https://www.us-cubanormalization.org/event/24-hour-global-online-picket-to-end-the-u-s-blockade-on-cuba/
LOCATION:Webinar
CATEGORIES:International Action Against the Blockade on Cuba
ATTACH;FMTTYPE=image/jpeg:https://www.us-cubanormalization.org/wp-content/uploads/2025/10/october_28.jpg
END:VEVENT
BEGIN:VEVENT
DTSTART;TZID=America/Chicago:20251029T160000
DTEND;TZID=America/Chicago:20251029T170000
DTSTAMP:20260422T185059
CREATED:20251024T171153Z
LAST-MODIFIED:20251024T171154Z
UID:9143-1761753600-1761757200@www.us-cubanormalization.org
SUMMARY:Support the Vote at the United Nations to End the Embargo on Cuba - Minneapolis\, Minnesota
DESCRIPTION:Join us at the WAMM’s Vigil to End War: Support the Vote at the United Nations to End the Embargo on Cuba \nThe World will vote to end the blockade on Cuba! What say you United States? \nThis October 2025 Cuba will again bring a resolution to the United Nations General Assembly to end the cruel U.S. blockade on Cuba for the 33rd consecutive vote!\nWhile the U.S. votes “no” to ending the inhuman and illegal blockade:\nThe People of the United States & The World votes “YES”! \nThe blockade is illegal under international law\, yet the U.S. continues to impose it in order “to bring about hunger\, desperation\, and overthrow of the government\,” as a former US State Department official admitted. \nIt’s time:\n+ To end the U.S. blockade on Cuba!!\n+ Remove Cuba from the so-called “State Sponsors of Terrorism” list!\n+ Return Guantanamo Bay Naval Base to Cuba! \nJOIN US as we stand by Cuba and its just demand for an end to this illegal U.S. policy
URL:https://www.us-cubanormalization.org/event/support-the-vote-at-the-united-nations-to-end-the-embargo-on-cuba-minneapolis-minnesota/
LOCATION:Lake Street/Marshall Avenue Bridge over the Mississippi River\, Minneapolis\, MN\, United States
CATEGORIES:International Action Against the Blockade on Cuba
ATTACH;FMTTYPE=image/jpeg:https://www.us-cubanormalization.org/wp-content/uploads/2025/10/SCOTA-Minnesota.jpeg
ORGANIZER;CN="Minnesota Cuba Committee":MAILTO:mncuba@gmail.com
END:VEVENT
BEGIN:VEVENT
DTSTART;TZID=America/Chicago:20251030T180000
DTEND;TZID=America/Chicago:20251030T200000
DTSTAMP:20260422T185100
CREATED:20251019T222819Z
LAST-MODIFIED:20251019T222819Z
UID:9121-1761847200-1761854400@www.us-cubanormalization.org
SUMMARY:A Tribute to Assata Shakur & Cuba
DESCRIPTION:Join the Minnesota Cuba Committee as we honor the legendary Black Liberation activist Assata Shakur! This gathering will include a screening of “Eyes of the Rainbow” by black Cuban filmmaker Gloria Rolando\, reflections\, and discussion.
URL:https://www.us-cubanormalization.org/event/a-tribute-to-assata-shakur-cuba/
LOCATION:UROC\, 2001 Plymouth Avenue North\, Minneapolis\, MN\, United States
CATEGORIES:International Action Against the Blockade on Cuba
ATTACH;FMTTYPE=image/jpeg:https://www.us-cubanormalization.org/wp-content/uploads/2025/10/559733504_1142828808041074_273563086453963301_n.jpg
ORGANIZER;CN="Minnesota Cuba Committee":MAILTO:mncuba@gmail.com
END:VEVENT
BEGIN:VEVENT
DTSTART;TZID=America/New_York:20251123T170000
DTEND;TZID=America/New_York:20251123T190000
DTSTAMP:20260422T185100
CREATED:20251109T044128Z
LAST-MODIFIED:20251111T010841Z
UID:9192-1763917200-1763924400@www.us-cubanormalization.org
SUMMARY:Cuba\, Climate & Environmental Disasters
DESCRIPTION:Twenty years ago Hurricane Katrina was “probably the worst catastrophe” in modern U.S. history\, even according to then-Homeland Security secretary Michael Chertoff. Since then massive wildfires\, droughts\, and flash floods have swept much of the world with tremendous and deadly consequences. \nAnd more are sure to come – as in the unprecedentedly-powerful Hurricane Melissa that just ravaged Jamaica and Haiti before hitting Cuba. Meanwhile gross environmental disasters like the toxic derailment in Ohio\, the 300-million gallon sludge-pond breach in Kentucky\, and the 800+ killed by a heatwave in Chicago also rock us here at home.\nWhile climate change is real –a direct product of blind and heedless capitalist production– evidence shows “natural disasters” are rooted in structural inequality and governmental disdain for those who aren’t wealthy. \nHow must and how are working people responding? Why did revolutionary-though-impoverished Cuba lose only 15 lives when Katrina hit it as a Force Five hurricane when over 1800 people died in New Orleans in a Force Three? \nIs it too much to say this a life-or-death discussion? After all\, we have only one planet.
URL:https://www.us-cubanormalization.org/event/cuba-climate-environmental-disasters/
CATEGORIES:Climate Change
ATTACH;FMTTYPE=image/jpeg:https://www.us-cubanormalization.org/wp-content/uploads/2025/11/climate_change_cuba_helen_august-1.jpg
END:VEVENT
BEGIN:VEVENT
DTSTART;TZID=America/New_York:20260215T140000
DTEND;TZID=America/New_York:20260215T160000
DTSTAMP:20260422T185100
CREATED:20260208T002600Z
LAST-MODIFIED:20260208T002620Z
UID:9227-1771164000-1771171200@www.us-cubanormalization.org
SUMMARY:Pre-Conference Webinar
DESCRIPTION:CUBA WEBINAR\nCuba Under Siege: An Action Conference!\nPre-Conference Webinar\n🗓️ SUNDAY FEBRUARY 15\, 2026\n⏰ 11am Pacific / 2pm Eastern \nFeaturing a speaker from Cuba’s Permanent Mission to the United Nations & organizers from labor unions and solidarity groups! \n♦️El programa estará disponible en inglés y español\n🔸The program will be available in English & Spanish \n 
URL:https://www.us-cubanormalization.org/event/pre-conference-webinar/
CATEGORIES:International Action Against the Blockade on Cuba
ATTACH;FMTTYPE=image/jpeg:https://www.us-cubanormalization.org/wp-content/uploads/2026/02/cuba_siege_1.jpg
END:VEVENT
BEGIN:VEVENT
DTSTART;TZID=America/New_York:20260314T110000
DTEND;TZID=America/New_York:20260315T150000
DTSTAMP:20260422T185100
CREATED:20260208T003130Z
LAST-MODIFIED:20260208T003130Z
UID:9230-1773486000-1773586800@www.us-cubanormalization.org
SUMMARY:Action Conference - CUNY Graduate Center - NYC
DESCRIPTION:Stop US Military Intervention in the Americas! Defend Venezuelan\nSovereignty! \nWelcome to the Delegation from Cuba Attending the\nUnited Nations Commission on the Status of Women (CSW70) \nCUNY GRADUATE CENTER \n365 FIFTH AVENUE (BETWEEN 34TH & 35TH STREETS\nIN MANHATTAN\, NYC) \n 
URL:https://www.us-cubanormalization.org/event/action-conference-cuny-graduate-center-nyc/
LOCATION:Cuny Grad Center\, 365 FIFTH AVENUE\, Mahattan\, NYC\, United States
CATEGORIES:International Action Against the Blockade on Cuba
ATTACH;FMTTYPE=image/jpeg:https://www.us-cubanormalization.org/wp-content/uploads/2026/02/palmcard_action_conference_english.jpg
END:VEVENT
END:VCALENDAR