BEGIN:VCALENDAR
VERSION:2.0
PRODID:-//International US-Cuba Normalization Coalition Committee - ECPv6.15.20//NONSGML v1.0//EN
CALSCALE:GREGORIAN
METHOD:PUBLISH
X-ORIGINAL-URL:https://www.us-cubanormalization.org
X-WR-CALDESC:Events for International US-Cuba Normalization Coalition Committee
REFRESH-INTERVAL;VALUE=DURATION:PT1H
X-Robots-Tag:noindex
X-PUBLISHED-TTL:PT1H
BEGIN:VTIMEZONE
TZID:America/New_York
BEGIN:DAYLIGHT
TZOFFSETFROM:-0500
TZOFFSETTO:-0400
TZNAME:EDT
DTSTART:20230312T070000
END:DAYLIGHT
BEGIN:STANDARD
TZOFFSETFROM:-0400
TZOFFSETTO:-0500
TZNAME:EST
DTSTART:20231105T060000
END:STANDARD
BEGIN:DAYLIGHT
TZOFFSETFROM:-0500
TZOFFSETTO:-0400
TZNAME:EDT
DTSTART:20240310T070000
END:DAYLIGHT
BEGIN:STANDARD
TZOFFSETFROM:-0400
TZOFFSETTO:-0500
TZNAME:EST
DTSTART:20241103T060000
END:STANDARD
BEGIN:DAYLIGHT
TZOFFSETFROM:-0500
TZOFFSETTO:-0400
TZNAME:EDT
DTSTART:20250309T070000
END:DAYLIGHT
BEGIN:STANDARD
TZOFFSETFROM:-0400
TZOFFSETTO:-0500
TZNAME:EST
DTSTART:20251102T060000
END:STANDARD
END:VTIMEZONE
BEGIN:VEVENT
DTSTART;TZID=America/New_York:20241026T140000
DTEND;TZID=America/New_York:20241026T160000
DTSTAMP:20260421T074041
CREATED:20241025T080932Z
LAST-MODIFIED:20241026T061738Z
UID:8903-1729951200-1729958400@www.us-cubanormalization.org
SUMMARY:End the US Blockade on Cuba Human Billboard - Oakland\, California
DESCRIPTION:Join us to raise awareness about the growing global movement to END the deadly US blockade against Cuba. On October 29th and 30th\, the UN General Assembly will be voting on a resolution condemning the commercial and financial blockade that the US imposes against Cuba. The General Assembly is expected to overwhelmingly condemn\, for the 32nd year in a row\, the illegal blockade which has put a stranglehold on the Cuban economy.\n\nCountries around the world consider the blockade as a relentless attack on the Cuban people and their government! Time and time again\, we see only the US and Israel voting in favor of continuing to punish Cuba.\n\nThe Bay Area and the entire world condemns the cruel and unjust US blockade against Cuba that has been going on for over 60 years\, and the sanctions that have made life increasingly difficult for ordinary people on the island. We condemn the US hybrid war on Cuba and won’t stop organizing until the blockade is lifted\, Cuba is taken off the SSOT list and Cuba can live free from US punishment and control.
URL:https://www.us-cubanormalization.org/event/end-the-us-blockade-on-cuba-human-billboard-oakland-california/
LOCATION:Grand Lake Theater\, Oakland\, CA\, United States
CATEGORIES:International Action Against the Blockade on Cuba
ATTACH;FMTTYPE=image/jpeg:https://www.us-cubanormalization.org/wp-content/uploads/2024/10/24-10-26-Oakland-1.jpg
ORGANIZER;CN="Bay Area Cuba Solidarity Network":MAILTO:bayareacubasolidarity@gmail.com
END:VEVENT
BEGIN:VEVENT
DTSTART;TZID=America/New_York:20241026T150000
DTEND;TZID=America/New_York:20241026T170000
DTSTAMP:20260421T074041
CREATED:20241025T071917Z
LAST-MODIFIED:20241025T071917Z
UID:8888-1729954800-1729962000@www.us-cubanormalization.org
SUMMARY:End the US economic blockade of Cuba - Portland Rally
DESCRIPTION:Join the scores of protests taking place in the US and Canada to remove Cuba from the State Sponsors of Terrorism List. On October 30\, 2024\, the UN General Assembly will once again overwhelmingly vote to condemn the US government’s 60+ year- long economic blockade of Cuba.
URL:https://www.us-cubanormalization.org/event/end-the-us-economic-blockade-of-cuba-portland-rally/
LOCATION:PSU Farmer’s Market\, Smith Memorial Student Union\, Portland\, OR\, United States
CATEGORIES:International Action Against the Blockade on Cuba
ATTACH;FMTTYPE=image/jpeg:https://www.us-cubanormalization.org/wp-content/uploads/2024/10/2024-10-25-Portland.jpg
ORGANIZER;CN="Portland End the Blockade of Cuba Committee":MAILTO:johnwaller46@gmail.com
END:VEVENT
END:VCALENDAR