BEGIN:VCALENDAR
VERSION:2.0
PRODID:-//International US-Cuba Normalization Coalition Committee - ECPv6.15.20//NONSGML v1.0//EN
CALSCALE:GREGORIAN
METHOD:PUBLISH
X-WR-CALNAME:International US-Cuba Normalization Coalition Committee
X-ORIGINAL-URL:https://www.us-cubanormalization.org
X-WR-CALDESC:Events for International US-Cuba Normalization Coalition Committee
REFRESH-INTERVAL;VALUE=DURATION:PT1H
X-Robots-Tag:noindex
X-PUBLISHED-TTL:PT1H
BEGIN:VTIMEZONE
TZID:America/New_York
BEGIN:DAYLIGHT
TZOFFSETFROM:-0500
TZOFFSETTO:-0400
TZNAME:EDT
DTSTART:20230312T070000
END:DAYLIGHT
BEGIN:STANDARD
TZOFFSETFROM:-0400
TZOFFSETTO:-0500
TZNAME:EST
DTSTART:20231105T060000
END:STANDARD
BEGIN:DAYLIGHT
TZOFFSETFROM:-0500
TZOFFSETTO:-0400
TZNAME:EDT
DTSTART:20240310T070000
END:DAYLIGHT
BEGIN:STANDARD
TZOFFSETFROM:-0400
TZOFFSETTO:-0500
TZNAME:EST
DTSTART:20241103T060000
END:STANDARD
BEGIN:DAYLIGHT
TZOFFSETFROM:-0500
TZOFFSETTO:-0400
TZNAME:EDT
DTSTART:20250309T070000
END:DAYLIGHT
BEGIN:STANDARD
TZOFFSETFROM:-0400
TZOFFSETTO:-0500
TZNAME:EST
DTSTART:20251102T060000
END:STANDARD
END:VTIMEZONE
BEGIN:VEVENT
DTSTART;TZID=America/New_York:20241029T130000
DTEND;TZID=America/New_York:20241029T170000
DTSTAMP:20260421T120359
CREATED:20241028T185556Z
LAST-MODIFIED:20241028T185634Z
UID:8940-1730206800-1730221200@www.us-cubanormalization.org
SUMMARY:UIC Stands with Cuba! End The Blockade!
DESCRIPTION:
URL:https://www.us-cubanormalization.org/event/uic-stands-with-cuba-end-the-blockade/
LOCATION:UIC Quad\, 803 S Morgan Street\, Chicago\, IL\, United States
ATTACH;FMTTYPE=image/jpeg:https://www.us-cubanormalization.org/wp-content/uploads/2024/10/UIC-STANDS-WITH-CUBA-END-THE-BLOCKADE.jpg
END:VEVENT
END:VCALENDAR